{
 "currentVersion": 10.81,
 "serviceDescription": "Black and white aerial photography circa 1994;\n10 foot resolution pixels.\nCalifornia \nProjection: Web Mercator (WGS84)",
 "name": "Aerials/Aerials_1994",
 "description": "Black and white aerial photography circa 1994;\n10 foot resolution pixels.\nCalifornia \nProjection: Web Mercator (WGS84)",
 "extent": {
  "xmin": -1.3535768022453042E7,
  "ymin": 4525945.780185466,
  "xmax": -1.3485203288580615E7,
  "ymax": 4587948.21890988,
  "spatialReference": {
   "wkid": 102100,
   "latestWkid": 3857
  }
 },
 "initialExtent": {
  "xmin": -1.3535768022453042E7,
  "ymin": 4525945.780185466,
  "xmax": -1.3485203288580615E7,
  "ymax": 4587948.21890988,
  "spatialReference": {
   "wkid": 102100,
   "latestWkid": 3857
  }
 },
 "fullExtent": {
  "xmin": -1.3535768022453042E7,
  "ymin": 4525945.780185466,
  "xmax": -1.3485203288580615E7,
  "ymax": 4587948.21890988,
  "spatialReference": {
   "wkid": 102100,
   "latestWkid": 3857
  }
 },
 "pixelSizeX": 3.898591663255719,
 "pixelSizeY": 3.900260346254919,
 "bandCount": 1,
 "pixelType": "U8",
 "minPixelSize": 0,
 "maxPixelSize": 0,
 "copyrightText": "City of Stockton",
 "serviceDataType": "esriImageServiceDataTypeGeneric",
 "minValues": [
  0
 ],
 "maxValues": [
  255
 ],
 "meanValues": [
  140.62955413986103
 ],
 "stdvValues": [
  62.67945234146908
 ],
 "objectIdField": "",
 "fields": [],
 "capabilities": "Mensuration,Image,Metadata",
 "defaultMosaicMethod": "Center",
 "allowedMosaicMethods": "",
 "sortField": "",
 "sortValue": null,
 "sortAscending": true,
 "mosaicOperator": "First",
 "defaultCompressionQuality": 75,
 "defaultResamplingMethod": "Bilinear",
 "maxImageHeight": 4100,
 "maxImageWidth": 15000,
 "allowRasterFunction": true,
 "rasterFunctionInfos": [
  {
   "name": "None",
   "description": "",
   "help": ""
  }
 ],
 "rasterTypeInfos": [
  {
   "name": "Raster Dataset",
   "description": "Supports all ArcGIS Raster Datasets",
   "help": ""
  }
 ],
 "mensurationCapabilities": "Basic",
 "hasHistograms": true,
 "hasColormap": false,
 "hasRasterAttributeTable": false,
 "minScale": 0,
 "maxScale": 0,
 "exportTilesAllowed": false,
 "hasMultidimensions": false,
 "supportsStatistics": false,
 "supportsAdvancedQueries": false,
 "editFieldsInfo": null,
 "ownershipBasedAccessControlForRasters": null,
 "allowComputeTiePoints": false,
 "useStandardizedQueries": true,
 "advancedQueryCapabilities": {
  "useStandardizedQueries": true,
  "supportsStatistics": false,
  "supportsOrderBy": false,
  "supportsDistinct": false,
  "supportsPagination": false
 },
 "spatialReference": {
  "wkid": 102100,
  "latestWkid": 3857
 }
}
