{
 "currentVersion": 10.81,
 "serviceDescription": "Full color aerial imagery (photography) acquired circa 2011;\n0.3m pixel resolution, 3 bands.\nProjection: Web Mercator (WGS84)",
 "name": "Aerials/Aerials_2011",
 "description": "Full color aerial imagery (photography) acquired circa 2011;\n0.3m pixel resolution, 3 bands.\nProjection: Web Mercator (WGS84)",
 "extent": {
  "xmin": -1.3513396764354948E7,
  "ymin": 4543330.310943768,
  "xmax": -1.3481346524831085E7,
  "ymax": 4599247.359003269,
  "spatialReference": {
   "wkid": 102100,
   "latestWkid": 3857
  }
 },
 "initialExtent": {
  "xmin": -1.3513396764354948E7,
  "ymin": 4543330.310943768,
  "xmax": -1.3481346524831085E7,
  "ymax": 4599247.359003269,
  "spatialReference": {
   "wkid": 102100,
   "latestWkid": 3857
  }
 },
 "fullExtent": {
  "xmin": -1.3513396764354948E7,
  "ymin": 4543330.310943768,
  "xmax": -1.3481346524831085E7,
  "ymax": 4599247.359003269,
  "spatialReference": {
   "wkid": 102100,
   "latestWkid": 3857
  }
 },
 "pixelSizeX": 0.39143418365958815,
 "pixelSizeY": 0.38940262024624994,
 "bandCount": 3,
 "pixelType": "U8",
 "minPixelSize": 0,
 "maxPixelSize": 0,
 "copyrightText": "USGS, Woolpert, Inc.",
 "serviceDataType": "esriImageServiceDataTypeRGB",
 "minValues": [
  0,
  0,
  0
 ],
 "maxValues": [
  255,
  255,
  255
 ],
 "meanValues": [
  88.24520681689573,
  99.89163705972284,
  71.82156795768513
 ],
 "stdvValues": [
  52.483323273003165,
  45.79813021300173,
  36.56785581154231
 ],
 "objectIdField": "",
 "fields": [],
 "capabilities": "Mensuration,Image,Metadata",
 "defaultMosaicMethod": "Center",
 "allowedMosaicMethods": "",
 "sortField": "",
 "sortValue": null,
 "sortAscending": true,
 "mosaicOperator": "First",
 "defaultCompressionQuality": 75,
 "defaultResamplingMethod": "Bilinear",
 "maxImageHeight": 4100,
 "maxImageWidth": 15000,
 "allowRasterFunction": true,
 "rasterFunctionInfos": [
  {
   "name": "None",
   "description": "",
   "help": ""
  }
 ],
 "rasterTypeInfos": [
  {
   "name": "Raster Dataset",
   "description": "Supports all ArcGIS Raster Datasets",
   "help": ""
  }
 ],
 "mensurationCapabilities": "Basic",
 "hasHistograms": true,
 "hasColormap": false,
 "hasRasterAttributeTable": false,
 "minScale": 0,
 "maxScale": 0,
 "exportTilesAllowed": false,
 "hasMultidimensions": false,
 "supportsStatistics": false,
 "supportsAdvancedQueries": false,
 "editFieldsInfo": null,
 "ownershipBasedAccessControlForRasters": null,
 "allowComputeTiePoints": false,
 "useStandardizedQueries": true,
 "advancedQueryCapabilities": {
  "useStandardizedQueries": true,
  "supportsStatistics": false,
  "supportsOrderBy": false,
  "supportsDistinct": false,
  "supportsPagination": false
 },
 "spatialReference": {
  "wkid": 102100,
  "latestWkid": 3857
 }
}
