{
 "currentVersion": 10.81,
 "serviceDescription": "Full color aerial imagery purchased from Google ca. 2016\n0.4 ft pixel resolution, 3 bands\n",
 "name": "Aerials/Aerials_2016",
 "description": "Full color aerial imagery purchased from Google ca. 2016\n0.4 ft pixel resolution, 3 bands\n",
 "extent": {
  "xmin": -121.42639160142951,
  "ymin": 37.85339351532565,
  "xmax": -121.1572265623664,
  "ymax": 38.06213430682081,
  "spatialReference": {
   "wkid": 4326,
   "latestWkid": 4326
  }
 },
 "initialExtent": {
  "xmin": -121.42639160142951,
  "ymin": 37.85339351532565,
  "xmax": -121.1572265623664,
  "ymax": 38.06213430682081,
  "spatialReference": {
   "wkid": 4326,
   "latestWkid": 4326
  }
 },
 "fullExtent": {
  "xmin": -121.42639160142951,
  "ymin": 37.85339351532565,
  "xmax": -121.1572265623664,
  "ymax": 38.06213430682081,
  "spatialReference": {
   "wkid": 4326,
   "latestWkid": 4326
  }
 },
 "pixelSizeX": 1.3411045074493337E-6,
 "pixelSizeY": 1.3429631512945114E-6,
 "bandCount": 3,
 "pixelType": "U8",
 "minPixelSize": 0,
 "maxPixelSize": 0,
 "copyrightText": "Google, City of Stockton",
 "serviceDataType": "esriImageServiceDataTypeRGB",
 "minValues": [
  0,
  0,
  0
 ],
 "maxValues": [
  255,
  255,
  255
 ],
 "meanValues": [
  81.0564643972585,
  80.92053592185704,
  70.93867184369473
 ],
 "stdvValues": [
  42.25728553371005,
  37.825093769638904,
  39.22027324121093
 ],
 "objectIdField": "",
 "fields": [],
 "capabilities": "Mensuration,Image,Metadata",
 "defaultMosaicMethod": "Center",
 "allowedMosaicMethods": "",
 "sortField": "",
 "sortValue": null,
 "sortAscending": true,
 "mosaicOperator": "First",
 "defaultCompressionQuality": 75,
 "defaultResamplingMethod": "Bilinear",
 "maxImageHeight": 4100,
 "maxImageWidth": 15000,
 "allowRasterFunction": true,
 "rasterFunctionInfos": [
  {
   "name": "None",
   "description": "",
   "help": ""
  }
 ],
 "rasterTypeInfos": [
  {
   "name": "Raster Dataset",
   "description": "Supports all ArcGIS Raster Datasets",
   "help": ""
  }
 ],
 "mensurationCapabilities": "Basic",
 "hasHistograms": true,
 "hasColormap": false,
 "hasRasterAttributeTable": false,
 "minScale": 0,
 "maxScale": 0,
 "exportTilesAllowed": false,
 "hasMultidimensions": false,
 "supportsStatistics": false,
 "supportsAdvancedQueries": false,
 "editFieldsInfo": null,
 "ownershipBasedAccessControlForRasters": null,
 "allowComputeTiePoints": false,
 "useStandardizedQueries": true,
 "advancedQueryCapabilities": {
  "useStandardizedQueries": true,
  "supportsStatistics": false,
  "supportsOrderBy": false,
  "supportsDistinct": false,
  "supportsPagination": false
 },
 "spatialReference": {
  "wkid": 4326,
  "latestWkid": 4326
 }
}
