{
 "currentVersion": 10.81,
 "serviceDescription": "Color aerial photography;\n3 inch pixel resolution.\nCalifornia \nProjection: Web Mercator (WGS84)",
 "name": "Aerials/Aerials_2023",
 "description": "Color aerial photography;\n3 inch pixel resolution.\nCalifornia \nProjection: Web Mercator (WGS84)",
 "extent": {
  "xmin": -1.3522674718515169E7,
  "ymin": 4558529.007122659,
  "xmax": -1.3485880847877115E7,
  "ymax": 4591935.27240336,
  "spatialReference": {
   "wkid": 102100,
   "latestWkid": 3857
  }
 },
 "initialExtent": {
  "xmin": -1.3522674718515169E7,
  "ymin": 4558529.007122659,
  "xmax": -1.3485880847877115E7,
  "ymax": 4591935.27240336,
  "spatialReference": {
   "wkid": 102100,
   "latestWkid": 3857
  }
 },
 "fullExtent": {
  "xmin": -1.3522674718515169E7,
  "ymin": 4558529.007122659,
  "xmax": -1.3485880847877115E7,
  "ymax": 4591935.27240336,
  "spatialReference": {
   "wkid": 102100,
   "latestWkid": 3857
  }
 },
 "pixelSizeX": 0.09728140594534376,
 "pixelSizeY": 0.0976885643372057,
 "bandCount": 3,
 "pixelType": "U8",
 "minPixelSize": 0,
 "maxPixelSize": 0,
 "copyrightText": "NearMap, Leihi, UT",
 "serviceDataType": "esriImageServiceDataTypeRGB",
 "minValues": [
  0,
  0,
  0
 ],
 "maxValues": [
  255,
  255,
  255
 ],
 "meanValues": [
  127.00946368105512,
  114.45255194060586,
  94.39344469036051
 ],
 "stdvValues": [
  54.74839954396126,
  44.22907530064388,
  39.197361645652926
 ],
 "objectIdField": "",
 "fields": [],
 "capabilities": "Image,Metadata,Mensuration",
 "defaultMosaicMethod": "Center",
 "allowedMosaicMethods": "",
 "sortField": "",
 "sortValue": null,
 "sortAscending": true,
 "mosaicOperator": "First",
 "defaultCompressionQuality": 75,
 "defaultResamplingMethod": "Bilinear",
 "maxImageHeight": 4100,
 "maxImageWidth": 15000,
 "allowRasterFunction": true,
 "rasterFunctionInfos": [
  {
   "name": "None",
   "description": "",
   "help": ""
  }
 ],
 "rasterTypeInfos": [
  {
   "name": "Raster Dataset",
   "description": "Supports all ArcGIS Raster Datasets",
   "help": ""
  }
 ],
 "mensurationCapabilities": "Basic",
 "hasHistograms": true,
 "hasColormap": false,
 "hasRasterAttributeTable": false,
 "minScale": 0,
 "maxScale": 0,
 "exportTilesAllowed": false,
 "hasMultidimensions": false,
 "supportsStatistics": false,
 "supportsAdvancedQueries": false,
 "editFieldsInfo": null,
 "ownershipBasedAccessControlForRasters": null,
 "allowComputeTiePoints": false,
 "useStandardizedQueries": true,
 "advancedQueryCapabilities": {
  "useStandardizedQueries": true,
  "supportsStatistics": false,
  "supportsOrderBy": false,
  "supportsDistinct": false,
  "supportsPagination": false
 },
 "spatialReference": {
  "wkid": 102100,
  "latestWkid": 3857
 }
}
