{
 "currentVersion": 10.81,
 "serviceDescription": "Black and white aerial photography;\n2 foot pixel resolution.\n\nProjection: Web Mercator (WGS84)",
 "name": "Aerials/aerials_1996",
 "description": "Black and white aerial photography;\n2 foot pixel resolution.\n\nProjection: Web Mercator (WGS84)",
 "extent": {
  "xmin": -1.3516352525892267E7,
  "ymin": 4560103.81677751,
  "xmax": -1.3488704015551062E7,
  "ymax": 4594884.024696066,
  "spatialReference": {
   "wkid": 102100,
   "latestWkid": 3857
  }
 },
 "initialExtent": {
  "xmin": -1.3516352525892267E7,
  "ymin": 4560103.81677751,
  "xmax": -1.3488704015551062E7,
  "ymax": 4594884.024696066,
  "spatialReference": {
   "wkid": 102100,
   "latestWkid": 3857
  }
 },
 "fullExtent": {
  "xmin": -1.3516352525892267E7,
  "ymin": 4560103.81677751,
  "xmax": -1.3488704015551062E7,
  "ymax": 4594884.024696066,
  "spatialReference": {
   "wkid": 102100,
   "latestWkid": 3857
  }
 },
 "pixelSizeX": 0.7807446514332224,
 "pixelSizeY": 0.7809634651073629,
 "bandCount": 1,
 "pixelType": "U8",
 "minPixelSize": 0,
 "maxPixelSize": 0,
 "copyrightText": "City of Stockton, HJW Inc.",
 "serviceDataType": "esriImageServiceDataTypeGeneric",
 "minValues": [],
 "maxValues": [],
 "meanValues": [],
 "stdvValues": [],
 "objectIdField": "",
 "fields": [],
 "capabilities": "Mensuration,Image,Metadata",
 "defaultMosaicMethod": "Center",
 "allowedMosaicMethods": "",
 "sortField": "",
 "sortValue": null,
 "sortAscending": true,
 "mosaicOperator": "First",
 "defaultCompressionQuality": 75,
 "defaultResamplingMethod": "Bilinear",
 "maxImageHeight": 4100,
 "maxImageWidth": 15000,
 "allowRasterFunction": true,
 "rasterFunctionInfos": [
  {
   "name": "None",
   "description": "",
   "help": ""
  }
 ],
 "rasterTypeInfos": [
  {
   "name": "Raster Dataset",
   "description": "Supports all ArcGIS Raster Datasets",
   "help": ""
  }
 ],
 "mensurationCapabilities": "Basic",
 "hasHistograms": false,
 "hasColormap": false,
 "hasRasterAttributeTable": false,
 "minScale": 0,
 "maxScale": 0,
 "exportTilesAllowed": false,
 "hasMultidimensions": false,
 "supportsStatistics": false,
 "supportsAdvancedQueries": false,
 "editFieldsInfo": null,
 "ownershipBasedAccessControlForRasters": null,
 "allowComputeTiePoints": false,
 "useStandardizedQueries": true,
 "advancedQueryCapabilities": {
  "useStandardizedQueries": true,
  "supportsStatistics": false,
  "supportsOrderBy": false,
  "supportsDistinct": false,
  "supportsPagination": false
 },
 "spatialReference": {
  "wkid": 102100,
  "latestWkid": 3857
 }
}
