{
 "currentVersion": 10.81,
 "serviceDescription": "Black and white aerial photography circa 2000;\n1 ft pixel resolution.\nProjection: Web Mercator (WGS84)",
 "name": "Aerials/aerials_2000",
 "description": "Black and white aerial photography circa 2000;\n1 ft pixel resolution.\nProjection: Web Mercator (WGS84)",
 "extent": {
  "xmin": -121.41126606673991,
  "ymin": 37.86008430245964,
  "xmax": -121.18102142909564,
  "ymax": 38.06623928983989,
  "spatialReference": {
   "wkid": 4326,
   "latestWkid": 4326
  }
 },
 "initialExtent": {
  "xmin": -121.41126606673991,
  "ymin": 37.86008430245964,
  "xmax": -121.18102142909564,
  "ymax": 38.06623928983989,
  "spatialReference": {
   "wkid": 4326,
   "latestWkid": 4326
  }
 },
 "fullExtent": {
  "xmin": -121.41126606673991,
  "ymin": 37.86008430245964,
  "xmax": -121.18102142909564,
  "ymax": 38.06623928983989,
  "spatialReference": {
   "wkid": 4326,
   "latestWkid": 4326
  }
 },
 "pixelSizeX": 3.112760080633192E-6,
 "pixelSizeY": 3.1127600806331356E-6,
 "bandCount": 1,
 "pixelType": "U8",
 "minPixelSize": 0,
 "maxPixelSize": 0,
 "copyrightText": "City of Stockton, HJW Inc.",
 "serviceDataType": "esriImageServiceDataTypeGeneric",
 "minValues": [
  27
 ],
 "maxValues": [
  254
 ],
 "meanValues": [
  128.29624968630006
 ],
 "stdvValues": [
  27.34066527818259
 ],
 "objectIdField": "",
 "fields": [],
 "capabilities": "Mensuration,Image,Metadata",
 "defaultMosaicMethod": "Center",
 "allowedMosaicMethods": "",
 "sortField": "",
 "sortValue": null,
 "sortAscending": true,
 "mosaicOperator": "First",
 "defaultCompressionQuality": 75,
 "defaultResamplingMethod": "Bilinear",
 "maxImageHeight": 4100,
 "maxImageWidth": 15000,
 "allowRasterFunction": true,
 "rasterFunctionInfos": [
  {
   "name": "None",
   "description": "",
   "help": ""
  }
 ],
 "rasterTypeInfos": [
  {
   "name": "Raster Dataset",
   "description": "Supports all ArcGIS Raster Datasets",
   "help": ""
  }
 ],
 "mensurationCapabilities": "Basic",
 "hasHistograms": true,
 "hasColormap": false,
 "hasRasterAttributeTable": false,
 "minScale": 0,
 "maxScale": 0,
 "exportTilesAllowed": false,
 "hasMultidimensions": false,
 "supportsStatistics": false,
 "supportsAdvancedQueries": false,
 "editFieldsInfo": null,
 "ownershipBasedAccessControlForRasters": null,
 "allowComputeTiePoints": false,
 "useStandardizedQueries": true,
 "advancedQueryCapabilities": {
  "useStandardizedQueries": true,
  "supportsStatistics": false,
  "supportsOrderBy": false,
  "supportsDistinct": false,
  "supportsPagination": false
 },
 "spatialReference": {
  "wkid": 4326,
  "latestWkid": 4326
 }
}
