{
 "currentVersion": 10.81,
 "serviceDescription": "Full color aerial photography circa 2004;\n0.5 ft pixel resolution.\nProjection: Web Mercator (WGS84)",
 "name": "Aerials/aerials_2004",
 "description": "Full color aerial photography circa 2004;\n0.5 ft pixel resolution.\nProjection: Web Mercator (WGS84)",
 "extent": {
  "xmin": -1.3517060467020322E7,
  "ymin": 4556163.901522301,
  "xmax": -1.3485224901859857E7,
  "ymax": 4592106.876114937,
  "spatialReference": {
   "wkid": 102100,
   "latestWkid": 3857
  }
 },
 "initialExtent": {
  "xmin": -1.3517060467020322E7,
  "ymin": 4556163.901522301,
  "xmax": -1.3485224901859857E7,
  "ymax": 4592106.876114937,
  "spatialReference": {
   "wkid": 102100,
   "latestWkid": 3857
  }
 },
 "fullExtent": {
  "xmin": -1.3517060467020322E7,
  "ymin": 4556163.901522301,
  "xmax": -1.3485224901859857E7,
  "ymax": 4592106.876114937,
  "spatialReference": {
   "wkid": 102100,
   "latestWkid": 3857
  }
 },
 "pixelSizeX": 0.19487980632017934,
 "pixelSizeY": 0.19530828656231203,
 "bandCount": 3,
 "pixelType": "U8",
 "minPixelSize": 0,
 "maxPixelSize": 0,
 "copyrightText": "City of Stockton, HJW Inc.",
 "serviceDataType": "esriImageServiceDataTypeRGB",
 "minValues": [
  0,
  0,
  0
 ],
 "maxValues": [
  255,
  255,
  255
 ],
 "meanValues": [
  115.20549883742792,
  116.2883050259727,
  109.16331507304903
 ],
 "stdvValues": [
  32.79625094014911,
  33.13385232520052,
  28.369335303172864
 ],
 "objectIdField": "",
 "fields": [],
 "capabilities": "Mensuration,Image,Metadata",
 "defaultMosaicMethod": "Center",
 "allowedMosaicMethods": "",
 "sortField": "",
 "sortValue": null,
 "sortAscending": true,
 "mosaicOperator": "First",
 "defaultCompressionQuality": 75,
 "defaultResamplingMethod": "Bilinear",
 "maxImageHeight": 4100,
 "maxImageWidth": 15000,
 "allowRasterFunction": true,
 "rasterFunctionInfos": [
  {
   "name": "None",
   "description": "",
   "help": ""
  }
 ],
 "rasterTypeInfos": [
  {
   "name": "Raster Dataset",
   "description": "Supports all ArcGIS Raster Datasets",
   "help": ""
  }
 ],
 "mensurationCapabilities": "Basic",
 "hasHistograms": true,
 "hasColormap": false,
 "hasRasterAttributeTable": false,
 "minScale": 0,
 "maxScale": 0,
 "exportTilesAllowed": false,
 "hasMultidimensions": false,
 "supportsStatistics": false,
 "supportsAdvancedQueries": false,
 "editFieldsInfo": null,
 "ownershipBasedAccessControlForRasters": null,
 "allowComputeTiePoints": false,
 "useStandardizedQueries": true,
 "advancedQueryCapabilities": {
  "useStandardizedQueries": true,
  "supportsStatistics": false,
  "supportsOrderBy": false,
  "supportsDistinct": false,
  "supportsPagination": false
 },
 "spatialReference": {
  "wkid": 102100,
  "latestWkid": 3857
 }
}
