View In:
ArcGIS JavaScript
ArcGIS Online Map Viewer
ArcGIS Earth
ArcMap
View Footprint In:
ArcGIS Online Map Viewer
Service Description: Full color aerial imagery (photography) circa 2006;
0.5 ft pixel resolution, 3 bands.
State Plane
Not yet Projection: World Mercator (WGS84)
Name: Aerials/Aerials_2006
Description: Full color aerial imagery (photography) circa 2006;
0.5 ft pixel resolution, 3 bands.
State Plane
Not yet Projection: World Mercator (WGS84)
Single Fused Map Cache: false
Extent:
XMin: 6296494.83378613
YMin: 2133494.964323491
XMax: 6380005.33378613
YMax: 2220005.464323491
Spatial Reference: 102643
(2227)
Initial Extent:
XMin: 6296494.83378613
YMin: 2133494.964323491
XMax: 6380005.33378613
YMax: 2220005.464323491
Spatial Reference: 102643
(2227)
Full Extent:
XMin: 6296494.83378613
YMin: 2133494.964323491
XMax: 6380005.33378613
YMax: 2220005.464323491
Spatial Reference: 102643
(2227)
Pixel Size X: 0.5
Pixel Size Y: 0.5
Band Count: 3
Pixel Type: U8
RasterFunction Infos: {"rasterFunctionInfos": [{
"name": "None",
"description": "",
"help": ""
}]}
Mensuration Capabilities: Basic
Has Histograms: false
Has Colormap: false
Has Multi Dimensions : false
Rendering Rule:
Min Scale: 0
Max Scale: 0
Copyright Text: City of Stockton, HJW inc.
Service Data Type: esriImageServiceDataTypeRGB
Min Values: N/A
Max Values: N/A
Mean Values: N/A
Standard Deviation Values: N/A
Object ID Field:
Fields:
None
Default Mosaic Method: Center
Allowed Mosaic Methods:
SortField:
SortValue: null
Mosaic Operator: First
Default Compression Quality: 75
Default Resampling Method: Bilinear
Max Record Count: null
Max Image Height: 4100
Max Image Width: 15000
Max Download Image Count: null
Max Mosaic Image Count: null
Allow Raster Function: true
Allow Copy: null
Allow Analysis: null
Allow Compute TiePoints: false
Supports Statistics: false
Supports Advanced Queries: false
Use StandardizedQueries: true
Raster Type Infos:
Name: Raster Dataset
Description: Supports all ArcGIS Raster Datasets
Help:
Has Raster Attribute Table: false
Edit Fields Info: null
Ownership Based AccessControl For Rasters: null
Child Resources:
Info
Key Properties
Legend
Raster Function Infos
Supported Operations:
Export Image
Identify
Measure
Compute Histograms
Compute Statistics Histograms
Get Samples
Compute Class Statistics
Query Boundary
Compute Pixel Location
Validate
Project