View In:
ArcGIS JavaScript
ArcGIS Online Map Viewer
ArcGIS Earth
ArcMap
View Footprint In:
ArcGIS Online Map Viewer
Service Description: Black and white aerial photography;
1 foot pixel resolution.
California Projection: Web Mercator (WGS84)
Name: Aerials/aerials_1998
Description: Black and white aerial photography;
1 foot pixel resolution.
California Projection: Web Mercator (WGS84)
Single Fused Map Cache: false
Extent:
XMin: -1.3515270873236291E7
YMin: 4559950.259087775
XMax: -1.3490052479421463E7
YMax: 4591562.667412142
Spatial Reference: 102100
(3857)
Initial Extent:
XMin: -1.3515270873236291E7
YMin: 4559950.259087775
XMax: -1.3490052479421463E7
YMax: 4591562.667412142
Spatial Reference: 102100
(3857)
Full Extent:
XMin: -1.3515270873236291E7
YMin: 4559950.259087775
XMax: -1.3490052479421463E7
YMax: 4591562.667412142
Spatial Reference: 102100
(3857)
Pixel Size X: 0.3902990700761185
Pixel Size Y: 0.39043089028217776
Band Count: 1
Pixel Type: U8
RasterFunction Infos: {"rasterFunctionInfos": [{
"name": "None",
"description": "",
"help": ""
}]}
Mensuration Capabilities: Basic
Has Histograms: true
Has Colormap: false
Has Multi Dimensions : false
Rendering Rule:
Min Scale: 0
Max Scale: 0
Copyright Text: City of Stockton, HJW Inc.
Service Data Type: esriImageServiceDataTypeGeneric
Min Values: 0
Max Values: 255
Mean Values: 90.90843025254631
Standard Deviation Values: 30.384690676028203
Object ID Field:
Fields:
None
Default Mosaic Method: Center
Allowed Mosaic Methods:
SortField:
SortValue: null
Mosaic Operator: First
Default Compression Quality: 75
Default Resampling Method: Bilinear
Max Record Count: null
Max Image Height: 4100
Max Image Width: 15000
Max Download Image Count: null
Max Mosaic Image Count: null
Allow Raster Function: true
Allow Copy: null
Allow Analysis: null
Allow Compute TiePoints: false
Supports Statistics: false
Supports Advanced Queries: false
Use StandardizedQueries: true
Raster Type Infos:
Name: Raster Dataset
Description: Supports all ArcGIS Raster Datasets
Help:
Has Raster Attribute Table: false
Edit Fields Info: null
Ownership Based AccessControl For Rasters: null
Child Resources:
Info
Histograms
Key Properties
Legend
Raster Function Infos
Supported Operations:
Export Image
Identify
Measure
Compute Histograms
Compute Statistics Histograms
Get Samples
Compute Class Statistics
Query Boundary
Compute Pixel Location
Validate
Project