View In:
ArcGIS JavaScript
ArcGIS Online Map Viewer
ArcGIS Earth
ArcMap
View Footprint In:
ArcGIS Online Map Viewer
Service Description: Full color aerial imagery (photography) acquired circa 2011;
0.3m pixel resolution, 3 bands.
Projection: Web Mercator (WGS84)
Name: Aerials/Aerials_2011
Description: Full color aerial imagery (photography) acquired circa 2011;
0.3m pixel resolution, 3 bands.
Projection: Web Mercator (WGS84)
Single Fused Map Cache: false
Extent:
XMin: -1.3513396764354948E7
YMin: 4543330.310943768
XMax: -1.3481346524831085E7
YMax: 4599247.359003269
Spatial Reference: 102100
(3857)
Initial Extent:
XMin: -1.3513396764354948E7
YMin: 4543330.310943768
XMax: -1.3481346524831085E7
YMax: 4599247.359003269
Spatial Reference: 102100
(3857)
Full Extent:
XMin: -1.3513396764354948E7
YMin: 4543330.310943768
XMax: -1.3481346524831085E7
YMax: 4599247.359003269
Spatial Reference: 102100
(3857)
Pixel Size X: 0.39143418365958815
Pixel Size Y: 0.38940262024624994
Band Count: 3
Pixel Type: U8
RasterFunction Infos: {"rasterFunctionInfos": [{
"name": "None",
"description": "",
"help": ""
}]}
Mensuration Capabilities: Basic
Has Histograms: true
Has Colormap: false
Has Multi Dimensions : false
Rendering Rule:
Min Scale: 0
Max Scale: 0
Copyright Text: USGS, Woolpert, Inc.
Service Data Type: esriImageServiceDataTypeRGB
Min Values: 0, 0, 0
Max Values: 255, 255, 255
Mean Values: 88.24520681689573, 99.89163705972284, 71.82156795768513
Standard Deviation Values: 52.483323273003165, 45.79813021300173, 36.56785581154231
Object ID Field:
Fields:
None
Default Mosaic Method: Center
Allowed Mosaic Methods:
SortField:
SortValue: null
Mosaic Operator: First
Default Compression Quality: 75
Default Resampling Method: Bilinear
Max Record Count: null
Max Image Height: 4100
Max Image Width: 15000
Max Download Image Count: null
Max Mosaic Image Count: null
Allow Raster Function: true
Allow Copy: null
Allow Analysis: null
Allow Compute TiePoints: false
Supports Statistics: false
Supports Advanced Queries: false
Use StandardizedQueries: true
Raster Type Infos:
Name: Raster Dataset
Description: Supports all ArcGIS Raster Datasets
Help:
Has Raster Attribute Table: false
Edit Fields Info: null
Ownership Based AccessControl For Rasters: null
Child Resources:
Info
Histograms
Key Properties
Legend
Raster Function Infos
Supported Operations:
Export Image
Identify
Measure
Compute Histograms
Compute Statistics Histograms
Get Samples
Compute Class Statistics
Query Boundary
Compute Pixel Location
Validate
Project