View In:
ArcGIS JavaScript
ArcGIS Online Map Viewer
ArcGIS Earth
ArcMap
View Footprint In:
ArcGIS Online Map Viewer
Service Description: Full color aerial imagery purchased from Google ca. 2016
0.4 ft pixel resolution, 3 bands
Name: Aerials/Aerials_2016
Description: Full color aerial imagery purchased from Google ca. 2016
0.4 ft pixel resolution, 3 bands
Single Fused Map Cache: false
Extent:
XMin: -121.42639160142951
YMin: 37.85339351532565
XMax: -121.1572265623664
YMax: 38.06213430682081
Spatial Reference: 4326
(4326)
Initial Extent:
XMin: -121.42639160142951
YMin: 37.85339351532565
XMax: -121.1572265623664
YMax: 38.06213430682081
Spatial Reference: 4326
(4326)
Full Extent:
XMin: -121.42639160142951
YMin: 37.85339351532565
XMax: -121.1572265623664
YMax: 38.06213430682081
Spatial Reference: 4326
(4326)
Pixel Size X: 1.3411045074493337E-6
Pixel Size Y: 1.3429631512945114E-6
Band Count: 3
Pixel Type: U8
RasterFunction Infos: {"rasterFunctionInfos": [{
"name": "None",
"description": "",
"help": ""
}]}
Mensuration Capabilities: Basic
Has Histograms: true
Has Colormap: false
Has Multi Dimensions : false
Rendering Rule:
Min Scale: 0
Max Scale: 0
Copyright Text: Google, City of Stockton
Service Data Type: esriImageServiceDataTypeRGB
Min Values: 0, 0, 0
Max Values: 255, 255, 255
Mean Values: 81.0564643972585, 80.92053592185704, 70.93867184369473
Standard Deviation Values: 42.25728553371005, 37.825093769638904, 39.22027324121093
Object ID Field:
Fields:
None
Default Mosaic Method: Center
Allowed Mosaic Methods:
SortField:
SortValue: null
Mosaic Operator: First
Default Compression Quality: 75
Default Resampling Method: Bilinear
Max Record Count: null
Max Image Height: 4100
Max Image Width: 15000
Max Download Image Count: null
Max Mosaic Image Count: null
Allow Raster Function: true
Allow Copy: null
Allow Analysis: null
Allow Compute TiePoints: false
Supports Statistics: false
Supports Advanced Queries: false
Use StandardizedQueries: true
Raster Type Infos:
Name: Raster Dataset
Description: Supports all ArcGIS Raster Datasets
Help:
Has Raster Attribute Table: false
Edit Fields Info: null
Ownership Based AccessControl For Rasters: null
Child Resources:
Info
Histograms
Key Properties
Legend
Raster Function Infos
Supported Operations:
Export Image
Identify
Measure
Compute Histograms
Compute Statistics Histograms
Get Samples
Compute Class Statistics
Query Boundary
Compute Pixel Location
Validate
Project