View In:
ArcGIS JavaScript
ArcGIS Online Map Viewer
ArcGIS Earth
ArcMap
View Footprint In:
ArcGIS Online Map Viewer
Service Description: Color aerial photography;
3 inch pixel resolution.
California Projection: Web Mercator (WGS84)
Name: Aerials/Aerials_2023
Description: Color aerial photography;
3 inch pixel resolution.
California Projection: Web Mercator (WGS84)
Single Fused Map Cache: false
Extent:
XMin: -1.3522674718515169E7
YMin: 4558529.007122659
XMax: -1.3485880847877115E7
YMax: 4591935.27240336
Spatial Reference: 102100
(3857)
Initial Extent:
XMin: -1.3522674718515169E7
YMin: 4558529.007122659
XMax: -1.3485880847877115E7
YMax: 4591935.27240336
Spatial Reference: 102100
(3857)
Full Extent:
XMin: -1.3522674718515169E7
YMin: 4558529.007122659
XMax: -1.3485880847877115E7
YMax: 4591935.27240336
Spatial Reference: 102100
(3857)
Pixel Size X: 0.09728140594534376
Pixel Size Y: 0.0976885643372057
Band Count: 3
Pixel Type: U8
RasterFunction Infos: {"rasterFunctionInfos": [{
"name": "None",
"description": "",
"help": ""
}]}
Mensuration Capabilities: Basic
Has Histograms: true
Has Colormap: false
Has Multi Dimensions : false
Rendering Rule:
Min Scale: 0
Max Scale: 0
Copyright Text: NearMap, Leihi, UT
Service Data Type: esriImageServiceDataTypeRGB
Min Values: 0, 0, 0
Max Values: 255, 255, 255
Mean Values: 127.00946368105512, 114.45255194060586, 94.39344469036051
Standard Deviation Values: 54.74839954396126, 44.22907530064388, 39.197361645652926
Object ID Field:
Fields:
None
Default Mosaic Method: Center
Allowed Mosaic Methods:
SortField:
SortValue: null
Mosaic Operator: First
Default Compression Quality: 75
Default Resampling Method: Bilinear
Max Record Count: null
Max Image Height: 4100
Max Image Width: 15000
Max Download Image Count: null
Max Mosaic Image Count: null
Allow Raster Function: true
Allow Copy: null
Allow Analysis: null
Allow Compute TiePoints: false
Supports Statistics: false
Supports Advanced Queries: false
Use StandardizedQueries: true
Raster Type Infos:
Name: Raster Dataset
Description: Supports all ArcGIS Raster Datasets
Help:
Has Raster Attribute Table: false
Edit Fields Info: null
Ownership Based AccessControl For Rasters: null
Child Resources:
Info
Histograms
Key Properties
Legend
Raster Function Infos
Supported Operations:
Export Image
Identify
Measure
Compute Histograms
Compute Statistics Histograms
Get Samples
Compute Class Statistics
Query Boundary
Compute Pixel Location
Validate
Project