View In:
ArcGIS JavaScript
ArcGIS Online Map Viewer
ArcGIS Earth
ArcMap
View Footprint In:
ArcGIS Online Map Viewer
Service Description: Black and white aerial photography;
2 foot pixel resolution.
Projection: Web Mercator (WGS84)
Name: Aerials/aerials_1996
Description: Black and white aerial photography;
2 foot pixel resolution.
Projection: Web Mercator (WGS84)
Single Fused Map Cache: false
Extent:
XMin: -1.3516352525892267E7
YMin: 4560103.81677751
XMax: -1.3488704015551062E7
YMax: 4594884.024696066
Spatial Reference: 102100
(3857)
Initial Extent:
XMin: -1.3516352525892267E7
YMin: 4560103.81677751
XMax: -1.3488704015551062E7
YMax: 4594884.024696066
Spatial Reference: 102100
(3857)
Full Extent:
XMin: -1.3516352525892267E7
YMin: 4560103.81677751
XMax: -1.3488704015551062E7
YMax: 4594884.024696066
Spatial Reference: 102100
(3857)
Pixel Size X: 0.7807446514332224
Pixel Size Y: 0.7809634651073629
Band Count: 1
Pixel Type: U8
RasterFunction Infos: {"rasterFunctionInfos": [{
"name": "None",
"description": "",
"help": ""
}]}
Mensuration Capabilities: Basic
Has Histograms: false
Has Colormap: false
Has Multi Dimensions : false
Rendering Rule:
Min Scale: 0
Max Scale: 0
Copyright Text: City of Stockton, HJW Inc.
Service Data Type: esriImageServiceDataTypeGeneric
Min Values: N/A
Max Values: N/A
Mean Values: N/A
Standard Deviation Values: N/A
Object ID Field:
Fields:
None
Default Mosaic Method: Center
Allowed Mosaic Methods:
SortField:
SortValue: null
Mosaic Operator: First
Default Compression Quality: 75
Default Resampling Method: Bilinear
Max Record Count: null
Max Image Height: 4100
Max Image Width: 15000
Max Download Image Count: null
Max Mosaic Image Count: null
Allow Raster Function: true
Allow Copy: null
Allow Analysis: null
Allow Compute TiePoints: false
Supports Statistics: false
Supports Advanced Queries: false
Use StandardizedQueries: true
Raster Type Infos:
Name: Raster Dataset
Description: Supports all ArcGIS Raster Datasets
Help:
Has Raster Attribute Table: false
Edit Fields Info: null
Ownership Based AccessControl For Rasters: null
Child Resources:
Info
Key Properties
Legend
Raster Function Infos
Supported Operations:
Export Image
Identify
Measure
Compute Histograms
Compute Statistics Histograms
Get Samples
Compute Class Statistics
Query Boundary
Compute Pixel Location
Validate
Project