View In:
ArcGIS JavaScript
ArcGIS Online Map Viewer
ArcGIS Earth
ArcMap
View Footprint In:
ArcGIS Online Map Viewer
Service Description: Black and white aerial photography circa 2000;
1 ft pixel resolution.
Projection: Web Mercator (WGS84)
Name: Aerials/aerials_2000
Description: Black and white aerial photography circa 2000;
1 ft pixel resolution.
Projection: Web Mercator (WGS84)
Single Fused Map Cache: false
Extent:
XMin: -121.41126606673991
YMin: 37.86008430245964
XMax: -121.18102142909564
YMax: 38.06623928983989
Spatial Reference: 4326
(4326)
Initial Extent:
XMin: -121.41126606673991
YMin: 37.86008430245964
XMax: -121.18102142909564
YMax: 38.06623928983989
Spatial Reference: 4326
(4326)
Full Extent:
XMin: -121.41126606673991
YMin: 37.86008430245964
XMax: -121.18102142909564
YMax: 38.06623928983989
Spatial Reference: 4326
(4326)
Pixel Size X: 3.112760080633192E-6
Pixel Size Y: 3.1127600806331356E-6
Band Count: 1
Pixel Type: U8
RasterFunction Infos: {"rasterFunctionInfos": [{
"name": "None",
"description": "",
"help": ""
}]}
Mensuration Capabilities: Basic
Has Histograms: true
Has Colormap: false
Has Multi Dimensions : false
Rendering Rule:
Min Scale: 0
Max Scale: 0
Copyright Text: City of Stockton, HJW Inc.
Service Data Type: esriImageServiceDataTypeGeneric
Min Values: 27
Max Values: 254
Mean Values: 128.29624968630006
Standard Deviation Values: 27.34066527818259
Object ID Field:
Fields:
None
Default Mosaic Method: Center
Allowed Mosaic Methods:
SortField:
SortValue: null
Mosaic Operator: First
Default Compression Quality: 75
Default Resampling Method: Bilinear
Max Record Count: null
Max Image Height: 4100
Max Image Width: 15000
Max Download Image Count: null
Max Mosaic Image Count: null
Allow Raster Function: true
Allow Copy: null
Allow Analysis: null
Allow Compute TiePoints: false
Supports Statistics: false
Supports Advanced Queries: false
Use StandardizedQueries: true
Raster Type Infos:
Name: Raster Dataset
Description: Supports all ArcGIS Raster Datasets
Help:
Has Raster Attribute Table: false
Edit Fields Info: null
Ownership Based AccessControl For Rasters: null
Child Resources:
Info
Histograms
Key Properties
Legend
Raster Function Infos
Supported Operations:
Export Image
Identify
Measure
Compute Histograms
Compute Statistics Histograms
Get Samples
Compute Class Statistics
Query Boundary
Compute Pixel Location
Validate
Project