View In:
ArcGIS JavaScript
ArcGIS Online Map Viewer
ArcGIS Earth
ArcMap
View Footprint In:
ArcGIS Online Map Viewer
Service Description: Full color aerial photography circa 2004;
0.5 ft pixel resolution.
Projection: Web Mercator (WGS84)
Name: Aerials/aerials_2004
Description: Full color aerial photography circa 2004;
0.5 ft pixel resolution.
Projection: Web Mercator (WGS84)
Single Fused Map Cache: false
Extent:
XMin: -1.3517060467020322E7
YMin: 4556163.901522301
XMax: -1.3485224901859857E7
YMax: 4592106.876114937
Spatial Reference: 102100
(3857)
Initial Extent:
XMin: -1.3517060467020322E7
YMin: 4556163.901522301
XMax: -1.3485224901859857E7
YMax: 4592106.876114937
Spatial Reference: 102100
(3857)
Full Extent:
XMin: -1.3517060467020322E7
YMin: 4556163.901522301
XMax: -1.3485224901859857E7
YMax: 4592106.876114937
Spatial Reference: 102100
(3857)
Pixel Size X: 0.19487980632017934
Pixel Size Y: 0.19530828656231203
Band Count: 3
Pixel Type: U8
RasterFunction Infos: {"rasterFunctionInfos": [{
"name": "None",
"description": "",
"help": ""
}]}
Mensuration Capabilities: Basic
Has Histograms: true
Has Colormap: false
Has Multi Dimensions : false
Rendering Rule:
Min Scale: 0
Max Scale: 0
Copyright Text: City of Stockton, HJW Inc.
Service Data Type: esriImageServiceDataTypeRGB
Min Values: 0, 0, 0
Max Values: 255, 255, 255
Mean Values: 115.20549883742792, 116.2883050259727, 109.16331507304903
Standard Deviation Values: 32.79625094014911, 33.13385232520052, 28.369335303172864
Object ID Field:
Fields:
None
Default Mosaic Method: Center
Allowed Mosaic Methods:
SortField:
SortValue: null
Mosaic Operator: First
Default Compression Quality: 75
Default Resampling Method: Bilinear
Max Record Count: null
Max Image Height: 4100
Max Image Width: 15000
Max Download Image Count: null
Max Mosaic Image Count: null
Allow Raster Function: true
Allow Copy: null
Allow Analysis: null
Allow Compute TiePoints: false
Supports Statistics: false
Supports Advanced Queries: false
Use StandardizedQueries: true
Raster Type Infos:
Name: Raster Dataset
Description: Supports all ArcGIS Raster Datasets
Help:
Has Raster Attribute Table: false
Edit Fields Info: null
Ownership Based AccessControl For Rasters: null
Child Resources:
Info
Histograms
Key Properties
Legend
Raster Function Infos
Supported Operations:
Export Image
Identify
Measure
Compute Histograms
Compute Statistics Histograms
Get Samples
Compute Class Statistics
Query Boundary
Compute Pixel Location
Validate
Project